BEGIN:VCALENDAR
VERSION:2.0
PRODID:-//Society of St Bartimaeus - ECPv6.15.17//NONSGML v1.0//EN
CALSCALE:GREGORIAN
METHOD:PUBLISH
X-ORIGINAL-URL:https://stbartimaeus.org
X-WR-CALDESC:Events for Society of St Bartimaeus
REFRESH-INTERVAL;VALUE=DURATION:PT1H
X-Robots-Tag:noindex
X-PUBLISHED-TTL:PT1H
BEGIN:VTIMEZONE
TZID:America/New_York
BEGIN:DAYLIGHT
TZOFFSETFROM:-0500
TZOFFSETTO:-0400
TZNAME:EDT
DTSTART:20210314T070000
END:DAYLIGHT
BEGIN:STANDARD
TZOFFSETFROM:-0400
TZOFFSETTO:-0500
TZNAME:EST
DTSTART:20211107T060000
END:STANDARD
BEGIN:DAYLIGHT
TZOFFSETFROM:-0500
TZOFFSETTO:-0400
TZNAME:EDT
DTSTART:20220313T070000
END:DAYLIGHT
BEGIN:STANDARD
TZOFFSETFROM:-0400
TZOFFSETTO:-0500
TZNAME:EST
DTSTART:20221106T060000
END:STANDARD
BEGIN:DAYLIGHT
TZOFFSETFROM:-0500
TZOFFSETTO:-0400
TZNAME:EDT
DTSTART:20230312T070000
END:DAYLIGHT
BEGIN:STANDARD
TZOFFSETFROM:-0400
TZOFFSETTO:-0500
TZNAME:EST
DTSTART:20231105T060000
END:STANDARD
BEGIN:DAYLIGHT
TZOFFSETFROM:-0500
TZOFFSETTO:-0400
TZNAME:EDT
DTSTART:20240310T070000
END:DAYLIGHT
BEGIN:STANDARD
TZOFFSETFROM:-0400
TZOFFSETTO:-0500
TZNAME:EST
DTSTART:20241103T060000
END:STANDARD
END:VTIMEZONE
BEGIN:VEVENT
DTSTART;TZID=America/New_York:20230602T190000
DTEND;TZID=America/New_York:20230602T210000
DTSTAMP:20260422T043205
CREATED:20230302T222710Z
LAST-MODIFIED:20230311T031758Z
UID:3185-1685732400-1685739600@stbartimaeus.org
SUMMARY:Submit Your First Friday Mass & Adoration Prayer Intention
DESCRIPTION:Prayer Request(s)\n                            When things do not go your way\, go Jesus' Way. Your healing is on the way!\n\nWe want to pray with you.\n\nPlease send us your prayer request by filling out the form below \n                        \n                        First Name Last Name Email Prayer Request(Required)\n          \n            \n            \n            \n            \n            \n            \n            \n            \n            \n        \n                        \n                        \nPlease\, come join us for our First Friday of the month Mass and Adoration for healing\, led by Fr. Martin L. Ibeh.
URL:https://stbartimaeus.org/event/submit-your-first-friday-mass-adoration-prayer-intention-4/
LOCATION:San Sebastian Catholic Church\, 1112 FL-16\,\, St Augustine\, FL\, 32084\, United States
CATEGORIES:Recurring
ATTACH;FMTTYPE=image/jpeg:https://stbartimaeus.org/wp-content/uploads/2021/07/our-lady-of-la-leche-Friday-Mass4-2021-08-04-at-12.32.33-PM-e1645240762348.jpeg
END:VEVENT
BEGIN:VEVENT
DTSTART;TZID=America/New_York:20230505T190000
DTEND;TZID=America/New_York:20230505T210000
DTSTAMP:20260422T043205
CREATED:20230302T224736Z
LAST-MODIFIED:20230302T224742Z
UID:3189-1683313200-1683320400@stbartimaeus.org
SUMMARY:Submit Your First Friday Mass & Adoration Prayer Intention
DESCRIPTION:Prayer Request(s)\n                            When things do not go your way\, go Jesus' Way. Your healing is on the way!\n\nWe want to pray with you.\n\nPlease send us your prayer request by filling out the form below \n                        \n                        First Name Last Name Email Prayer Request(Required)\n          \n            \n            \n            \n            \n            \n            \n            \n            \n            \n        \n                        \n                        \nPlease\, come join us for our First Friday of the month Mass and Adoration for healing\, led by Fr. Martin L. Ibeh.
URL:https://stbartimaeus.org/event/submit-your-first-friday-mass-adoration-prayer-intention-5/
LOCATION:San Sebastian Catholic Church\, 1112 FL-16\,\, St Augustine\, FL\, 32084\, United States
CATEGORIES:Recurring
ATTACH;FMTTYPE=image/jpeg:https://stbartimaeus.org/wp-content/uploads/2021/07/our-lady-of-la-leche-Friday-Mass4-2021-08-04-at-12.32.33-PM-e1645240762348.jpeg
END:VEVENT
BEGIN:VEVENT
DTSTART;TZID=America/New_York:20230303T190000
DTEND;TZID=America/New_York:20230303T210000
DTSTAMP:20260422T043205
CREATED:20230125T023349Z
LAST-MODIFIED:20230302T223659Z
UID:3181-1677870000-1677877200@stbartimaeus.org
SUMMARY:Submit Your First Friday Mass & Adoration Prayer Intention
DESCRIPTION:Prayer Request(s)\n                            When things do not go your way\, go Jesus' Way. Your healing is on the way!\n\nWe want to pray with you.\n\nPlease send us your prayer request by filling out the form below \n                        \n                        First Name Last Name Email Prayer Request(Required)\n          \n            \n            \n            \n            \n            \n            \n            \n            \n            \n        \n                        \n                        \nPlease\, come join us for our First Friday of the month Mass and Adoration for healing\, led by Fr. Martin L. Ibeh.
URL:https://stbartimaeus.org/event/submit-your-first-friday-mass-adoration-prayer-intention-3/
LOCATION:San Sebastian Catholic Church\, 1112 FL-16\,\, St Augustine\, FL\, 32084\, United States
CATEGORIES:Recurring
ATTACH;FMTTYPE=image/jpeg:https://stbartimaeus.org/wp-content/uploads/2021/07/our-lady-of-la-leche-Friday-Mass4-2021-08-04-at-12.32.33-PM-e1645240762348.jpeg
END:VEVENT
BEGIN:VEVENT
DTSTART;TZID=America/New_York:20230203T190000
DTEND;TZID=America/New_York:20230203T210000
DTSTAMP:20260422T043205
CREATED:20230125T023258Z
LAST-MODIFIED:20230125T023258Z
UID:3179-1675450800-1675458000@stbartimaeus.org
SUMMARY:Submit Your First Friday Mass & Adoration Prayer Intention
DESCRIPTION:Prayer Request(s)\n                            When things do not go your way\, go Jesus' Way. Your healing is on the way!\n\nWe want to pray with you.\n\nPlease send us your prayer request by filling out the form below \n                        \n                        First Name Last Name Email Prayer Request(Required)\n          \n            \n            \n            \n            \n            \n            \n            \n            \n            \n        \n                        \n                        \nPlease\, come join us for our First Friday of the month Mass and Adoration for healing\, led by Fr. Martin L. Ibeh.
URL:https://stbartimaeus.org/event/submit-your-first-friday-mass-adoration-prayer-intention-2/
LOCATION:Our Lady of La Leche\, 101 San Marco Ave\, St Augustine\, FL\, 32084
CATEGORIES:Recurring
ATTACH;FMTTYPE=image/jpeg:https://stbartimaeus.org/wp-content/uploads/2021/07/our-lady-of-la-leche-Friday-Mass4-2021-08-04-at-12.32.33-PM-e1645240762348.jpeg
END:VEVENT
BEGIN:VEVENT
DTSTART;TZID=America/New_York:20230106T190000
DTEND;TZID=America/New_York:20230106T210000
DTSTAMP:20260422T043205
CREATED:20230125T022859Z
LAST-MODIFIED:20230125T022859Z
UID:3176-1673031600-1673038800@stbartimaeus.org
SUMMARY:Submit Your First Friday Mass & Adoration Prayer Intention
DESCRIPTION:Prayer Request(s)\n                            When things do not go your way\, go Jesus' Way. Your healing is on the way!\n\nWe want to pray with you.\n\nPlease send us your prayer request by filling out the form below \n                        \n                        First Name Last Name Email Prayer Request(Required)\n          \n            \n            \n            \n            \n            \n            \n            \n            \n            \n        \n                        \n                        \nPlease\, come join us for our First Friday of the month Mass and Adoration for healing\, led by Fr. Martin L. Ibeh.
URL:https://stbartimaeus.org/event/submit-your-first-friday-mass-adoration-prayer-intention/
LOCATION:Our Lady of La Leche\, 101 San Marco Ave\, St Augustine\, FL\, 32084
CATEGORIES:Recurring
ATTACH;FMTTYPE=image/jpeg:https://stbartimaeus.org/wp-content/uploads/2021/07/our-lady-of-la-leche-Friday-Mass4-2021-08-04-at-12.32.33-PM-e1645240762348.jpeg
END:VEVENT
BEGIN:VEVENT
DTSTART;TZID=America/New_York:20221202T190000
DTEND;TZID=America/New_York:20221202T210000
DTSTAMP:20260422T043205
CREATED:20221114T014356Z
LAST-MODIFIED:20221114T014356Z
UID:3160-1670007600-1670014800@stbartimaeus.org
SUMMARY:Submit Your First Friday Mass & Adoration Prayer Intention
DESCRIPTION:Prayer Request(s)\n                            When things do not go your way\, go Jesus' Way. Your healing is on the way!\n\nWe want to pray with you.\n\nPlease send us your prayer request by filling out the form below \n                        \n                        First Name Last Name Email Prayer Request(Required)\n          \n            \n            \n            \n            \n            \n            \n            \n            \n            \n        \n                        \n                        \nPlease\, come join us for our First Friday of the month Mass and Adoration for healing\, led by Fr. Martin L. Ibeh.
URL:https://stbartimaeus.org/event/submit-your-first-friday-mass-adoration-prayer-intention-9/
LOCATION:Our Lady of La Leche\, 101 San Marco Ave\, St Augustine\, FL\, 32084
CATEGORIES:Recurring
ATTACH;FMTTYPE=image/jpeg:https://stbartimaeus.org/wp-content/uploads/2021/07/our-lady-of-la-leche-Friday-Mass4-2021-08-04-at-12.32.33-PM-e1645240762348.jpeg
END:VEVENT
BEGIN:VEVENT
DTSTART;TZID=America/New_York:20221120T140000
DTEND;TZID=America/New_York:20221120T170000
DTSTAMP:20260422T043205
CREATED:20221114T015547Z
LAST-MODIFIED:20221114T015547Z
UID:3162-1668952800-1668963600@stbartimaeus.org
SUMMARY:An Artful Way to Help the People of Nigeria
DESCRIPTION:Join us for an afternoon that will not only be fun\, but will inspire\nconversations about the beauty and diversity of the Nigerian culture\, as\nwell as help a very good cause. \nOvico gallery features the contemporary masterpieces of Nigerian\nartist\, Chike Onurah
URL:https://stbartimaeus.org/event/an-artful-way-to-help-the-people-of-nigeria/
LOCATION:Allegro Senior Living\, 2802 North 5th St Suite 4\, St Augustine\, FL\, 32084\, United States
ATTACH;FMTTYPE=application/pdf:https://stbartimaeus.org/wp-content/uploads/2022/11/Gallery-invitation-Ovico-SSB-Nov.-20th-1-1.pdf
END:VEVENT
BEGIN:VEVENT
DTSTART;TZID=America/New_York:20221104T190000
DTEND;TZID=America/New_York:20221104T210000
DTSTAMP:20260422T043205
CREATED:20221114T014159Z
LAST-MODIFIED:20221114T014159Z
UID:3158-1667588400-1667595600@stbartimaeus.org
SUMMARY:Submit Your First Friday Mass & Adoration Prayer Intention
DESCRIPTION:Prayer Request(s)\n                            When things do not go your way\, go Jesus' Way. Your healing is on the way!\n\nWe want to pray with you.\n\nPlease send us your prayer request by filling out the form below \n                        \n                        First Name Last Name Email Prayer Request(Required)\n          \n            \n            \n            \n            \n            \n            \n            \n            \n            \n        \n                        \n                        \nPlease\, come join us for our First Friday of the month Mass and Adoration for healing\, led by Fr. Martin L. Ibeh.
URL:https://stbartimaeus.org/event/submit-your-first-friday-mass-adoration-prayer-intention-8/
LOCATION:Our Lady of La Leche\, 101 San Marco Ave\, St Augustine\, FL\, 32084
CATEGORIES:Recurring
ATTACH;FMTTYPE=image/jpeg:https://stbartimaeus.org/wp-content/uploads/2021/07/our-lady-of-la-leche-Friday-Mass4-2021-08-04-at-12.32.33-PM-e1645240762348.jpeg
END:VEVENT
END:VCALENDAR